BEGIN:VCALENDAR
VERSION:2.0
PRODID:-//Kräuter-Drogerie - ECPv6.15.20//NONSGML v1.0//EN
CALSCALE:GREGORIAN
METHOD:PUBLISH
X-WR-CALNAME:Kräuter-Drogerie
X-ORIGINAL-URL:https://www.drogist-n.de
X-WR-CALDESC:Veranstaltungen für Kräuter-Drogerie
REFRESH-INTERVAL;VALUE=DURATION:PT1H
X-Robots-Tag:noindex
X-PUBLISHED-TTL:PT1H
BEGIN:VTIMEZONE
TZID:Europe/Berlin
BEGIN:DAYLIGHT
TZOFFSETFROM:+0100
TZOFFSETTO:+0200
TZNAME:CEST
DTSTART:20250330T010000
END:DAYLIGHT
BEGIN:STANDARD
TZOFFSETFROM:+0200
TZOFFSETTO:+0100
TZNAME:CET
DTSTART:20251026T010000
END:STANDARD
BEGIN:DAYLIGHT
TZOFFSETFROM:+0100
TZOFFSETTO:+0200
TZNAME:CEST
DTSTART:20260329T010000
END:DAYLIGHT
BEGIN:STANDARD
TZOFFSETFROM:+0200
TZOFFSETTO:+0100
TZNAME:CET
DTSTART:20261025T010000
END:STANDARD
BEGIN:DAYLIGHT
TZOFFSETFROM:+0100
TZOFFSETTO:+0200
TZNAME:CEST
DTSTART:20270328T010000
END:DAYLIGHT
BEGIN:STANDARD
TZOFFSETFROM:+0200
TZOFFSETTO:+0100
TZNAME:CET
DTSTART:20271031T010000
END:STANDARD
END:VTIMEZONE
BEGIN:VEVENT
DTSTART;TZID=Europe/Berlin:20260425T070000
DTEND;TZID=Europe/Berlin:20260425T133000
DTSTAMP:20260425T164925
CREATED:20251123T151011Z
LAST-MODIFIED:20260325T085754Z
UID:16794-1777100400-1777123800@www.drogist-n.de
SUMMARY:Paderborn Wochenmarkt am Domplatz
DESCRIPTION:Gewürze\, Tee und Naturkost in Paderborn 👍\n\n\n\nInformationen zum Wochenmarkt Gewürze kaufen ist Vertrauenssache. 🧙Die Aromen in unserer Küche geben uns eine wahrnehmbare Heimat.Alle Gewürze der Welt finden Sie in unserer Kräuter – Drogerie auf dem Wochenmarkt in Paderborn.Unsere Empfehlungen für Ihr Frühjahr & Sommer ☀️Warum lohnt sich ein Besuch des Wochenmarkts in Paderborn?\n\n\n\n\nBei Drogist Niggemeier können Sie die größte Auswahl an Gewürzen kaufen. In der frische und Qualität bei Gewürzen\, Tee und Naturkost ist unsere Kräuter – Drogerie unübertroffen.\n\n\n\nUnseren Gewürzstand finden Sie etwa 14 tägig samstags auf dem Wochenmarkt am Dom in Paderborn in der der Reihe direkt vor dem Dom. Es kann aber zu Verschiebungen kommen.\n\n\n\nIn der Zeit der Weihnachtsmärkte beschicken wir keine Wochenmärkte. Sie finden uns dann in Münster auf dem Weihnachtsmarkt.\n\n\n\n\nZum Libori Fest im Juli sind wir nicht Paderborn. Im Juli ist unsere Urlaubszeit ⛵ \n\n\n\nGewürze kaufen ist Vertrauenssache. 🧙\n\n\n\nNutzen Sie unsere persönliche und kompetente Beratung zu Gewürzen\, Tee und Naturkost vor Ort. \n\n\n\nWerksverkauf Gewürze direkt vom Hersteller im Münsterland & Westfalen. \n\n\n\nDie Aromen in unserer Küche geben uns eine wahrnehmbare Heimat.\n\n\n\nUnsere handwerklich hergestellten Gewürze und Teesorten sind in Frische und Qualität unübertroffen. \n\n\n\nAlle Gewürze der Welt finden Sie in unserer Kräuter – Drogerie auf dem Wochenmarkt in Paderborn.\n\n\n\nAuch außergewöhnliche Gewürzspezialitäten wie zum Beispiel: Langpfeffer\, Sezchuanpfeffer\, Sumach\, Tasmanischen Bergpfeffer und alle Pfeffersorten finden Sie in unserer Kräuter – Drogerie. \n\n\n\nUnsere Empfehlungen für Ihr Frühjahr & Sommer ☀️\n\n\n\n\nDips Pestos SaucenUnsere Dip & Pesto Gewürze sind vielseitig einsetzbar für Gemüsesticks\, kreativen Pestos\, würzigem Joghurt zu Kartoffeln\, feurigem Dip zu Tortilla-Chips oder einfach als Aufstrich für Baguette.  Grillsaucen mit unseren Gewürzen selber machen ist einfach und sorgen für ein unvergleichliches Geschmackserlebnis.\nWeiterlesenshop.drogist-n.de\n\n\n\nFleisch Gewürze GrillsportFleischgewürz für Steaks\, Braten\, Geflügel\, Wildfleisch\, Grillmarinaden\, Pasteten\, Barbecue\, die perfekten Mischungen für Grillsportler. Alle diese Gewürze empfehlen wir auch Veganern für Ihr Tofu\, Seitan und weiteren Grundlagen für vegane Bratlinge.Weiterlesenshop.drogist-n.de\n\n\n\nEistee Iso-DrinkIhr persönliche Eistee ist auch der beste Iso-Drink. Bereiten Sie Ihren Tee mit Kraneberger Gourmet-Wasser zu:  Keine Schlepperei\, kein Plastikmüll und leichter ökologischer Fußabdruck sind der Dank.Weiterlesenshop.drogist-n.de\n\n\n\nAyurvedisch kochenAyurveda ist eine traditionelle indische Heilkunst. Der Begriff ist aus dem Sanskrit \nAyurvedisch kochen ist die Basis der ayurvedischen Lebensweise und entspricht der indischen Küche. Den Begriff Vollwerternährung können wir in Europa dazu erweitern.\nWeiterlesenshop.drogist-n.de\n\n\n\n\n\nPfeffer in allen VariantenMit dem Begriff Pfeffer wird volkstümlich in Deutschland auch der Begriff Gewürze beschrieben. Hier finden Sie Gewürze und Gewürzmischungen die mit Pfeffergewächsen\, dem Piper nigrum\, zu tun haben.Weiterlesenshop.drogist-n.de\n\n\n\nUmami Gewürze AlleskönnerAllrounder Gewürze unterstreichen auf natürliche Weise den Geschmack verschiedenster Gerichte. Damit es nicht immer langweilig gleich schmeckt\, 13 Umami Gewürze.Weiterlesenshop.drogist-n.de\n\n\n\nMediterrane Gewürze kaufenLänder wie Italien\, Spanien und Griechenland wecken in Deutschland durch Urlaubsträume Appetit auf aromatische\, frische LeckereienWeiterlesenshop.drogist-n.de\n\n\n\nZatar Gewürz selber machenMit diesen Gewürzen Zatar Gewürz selber machen ist einfach. Zatar übersetzt in Deutsch: Thymian. Wird mit Thymian\, Sumach\, Sesamsaat und eventuell mit Cumin hergestellt.Weiterlesenshop.drogist-n.de\n\n\n\n\n\nPfeffer in allen VariantenHier finden Sie Gewürze und Gewürzmischungen die mit Pfeffergewächsen\, dem Piper nigrum\, zu tun haben. Seltene Pfeffersorten: Timutpfeffer\, Szechuanpfeffer\, Langpfeffer\, Tasmanischer Bergpfeffer\, und weitere Sorten.Weiterlesenshop.drogist-n.de\n\n\n\nVanilleschoten Bourbon +17cmAus Madagaskar: Über 17 cm lange Vanillestangen kaufen Sie hier zu sehr günstigen Preisen…Weiterlesenshop.drogist-n.de\n\n\n\nSchwarzer Tee\, Grüner Tee & FrüchteteeTee kaufen mit unseren Spitzenqualitäten. Genießen Sie Ihre Teestunde:\nIndem wir ausschließlich lose Teesorten aus aktuellen Ernten verarbeiten\, stellen wir sicher\, dass unsere Tees frisch und von höchster Qualität sind.Weiterlesenshop.drogist-n.de\n\n\n\n\nBesonders einfach ist Ihre Vorbestellung von Gewürzen\, Tee und Naturkost für Sie in unserem Onlineshop der Kräuter – Drogerie. \n\n\n\n\nIn Ihrer Onlinebestellung schreiben Sie unter Bemerkungen den Markt und Tag der Abholung hinein.\n\n\n\nSie können auch anrufen oder via  E-Mail vorbestellen.\n\n\n\nSie bestellen und haben Ihre fertig gepackten Köstlichkeiten zur Abholung auf Ihrem örtlichen Markt bereit. \n\n\n\nUnsere Großpackungen zu besonders attraktiven Preisen halten wir auf den Marktständen nicht vorrätig. Diese werden für Sie aus der aktuellsten Charge abgefüllt.\n\n\n\nIhre Bestellung muss einen Tag vor dem Markttermin bis mittags bei uns eingehen. Ihre Zahlung nehmen wir in Bar oder via Kartenzahlung oder Handyzahlung entgegen:\n\n\n\n\n\n\nWarum lohnt sich ein Besuch des Wochenmarkts in Paderborn?\n\n\nPaderborn hat samstags einen attraktiv bestückten Wochenmarkt mit frischen Lebensmitteln und vielerlei Spezialitäten.Des Weiteren ist Paderborn eine wichtige Handelsstadt für die ostwestfälischen Region und hat eine sehenswerte Altstadt mit vielen von Inhabern geführten Fachgeschäften.Besonders die geschichtliche Präsens ist in Paderborn spürbar:Fußläufig sind einige Highlights wie der Libori Dom\, und das LWL Museum der Kaiserpfalz einen Besuch wert.
URL:https://www.drogist-n.de/markt/paderborn-domplatz-samstag-gewuerze-kaufen2/
LOCATION:Paderborn Domplatz\, Domplatz\, Paderborn\, 33098\, Deutschland
CATEGORIES:Wochenmarkt Gewürze kaufen
ATTACH;FMTTYPE=image/webp:https://www.drogist-n.de/wp-content/uploads/2023/10/anhaeger-klein_2024-e1737988058372.webp
END:VEVENT
BEGIN:VEVENT
DTSTART;TZID=Europe/Berlin:20260425T073000
DTEND;TZID=Europe/Berlin:20260425T130000
DTSTAMP:20260425T164925
CREATED:20260308T172044Z
LAST-MODIFIED:20260409T141725Z
UID:15184-1777102200-1777122000@www.drogist-n.de
SUMMARY:Lippstadt Wochenmarkt
DESCRIPTION:Gewürze Tee Naturkost in Lippstadt kaufen 👌\n\n\n\nInhaltsverzeichnis Gewürze kaufen ist Vertrauenssache. 🧙Die Aromen in unserer Küche geben uns eine wahrnehmbare Heimat.Unsere Empfehlungen für Ihr Frühjahr & Sommer ☀️Wo finden Sie den Gewürzstand in Lippstadt auf dem Wochenmarkt?Vorbestellung für Märkte nehmen wir gerne an:Anfrage zu individuellen Gewürz- oder Teemischungen\n\n\n\nBei Drogist Niggemeier können Sie die größte Auswahl an Gewürzen kaufen. In der Frische und Qualität bei Gewürzen\, Tee und Naturkost ist unsere Kräuter – Drogerie unübertroffen. Alle Gewürze der Welt finden Sie in unserer Kräuter – Drogerie auf dem Wochenmarkt in Lippstadt. \n\n\n\nGewürze kaufen ist Vertrauenssache. 🧙\n\n\n\nNutzen Sie unsere persönliche und kompetente Beratung zu Gewürzen\, Tee und Naturkost vor Ort. \n\n\n\nWerksverkauf Gewürze direkt vom Hersteller im Münsterland & Westfalen. \n\n\n\nDie Aromen in unserer Küche geben uns eine wahrnehmbare Heimat.\n\n\n\nUnsere handwerklich hergestellten Gewürze und Teesorten sind in Frische und Qualität unübertroffen. \n\n\n\nUnsere Empfehlungen für Ihr Frühjahr & Sommer ☀️\n\n\n\n\nDips Pestos SaucenUnsere Dip & Pesto Gewürze sind vielseitig einsetzbar für Gemüsesticks\, kreativen Pestos\, würzigem Joghurt zu Kartoffeln\, feurigem Dip zu Tortilla-Chips oder einfach als Aufstrich für Baguette.  Grillsaucen mit unseren Gewürzen selber machen ist einfach und sorgen für ein unvergleichliches Geschmackserlebnis.\nWeiterlesenshop.drogist-n.de\n\n\n\nFleisch Gewürze GrillsportFleischgewürz für Steaks\, Braten\, Geflügel\, Wildfleisch\, Grillmarinaden\, Pasteten\, Barbecue\, die perfekten Mischungen für Grillsportler. Alle diese Gewürze empfehlen wir auch Veganern für Ihr Tofu\, Seitan und weiteren Grundlagen für vegane Bratlinge.Weiterlesenshop.drogist-n.de\n\n\n\nEistee Iso-DrinkIhr persönliche Eistee ist auch der beste Iso-Drink. Bereiten Sie Ihren Tee mit Kraneberger Gourmet-Wasser zu:  Keine Schlepperei\, kein Plastikmüll und leichter ökologischer Fußabdruck sind der Dank.Weiterlesenshop.drogist-n.de\n\n\n\nAyurvedisch kochenAyurveda ist eine traditionelle indische Heilkunst. Der Begriff ist aus dem Sanskrit \nAyurvedisch kochen ist die Basis der ayurvedischen Lebensweise und entspricht der indischen Küche. Den Begriff Vollwerternährung können wir in Europa dazu erweitern.\nWeiterlesenshop.drogist-n.de\n\n\n\n\n\nPfeffer in allen VariantenMit dem Begriff Pfeffer wird volkstümlich in Deutschland auch der Begriff Gewürze beschrieben. Hier finden Sie Gewürze und Gewürzmischungen die mit Pfeffergewächsen\, dem Piper nigrum\, zu tun haben.Weiterlesenshop.drogist-n.de\n\n\n\nUmami Gewürze AlleskönnerAllrounder Gewürze unterstreichen auf natürliche Weise den Geschmack verschiedenster Gerichte. Damit es nicht immer langweilig gleich schmeckt\, 13 Umami Gewürze.Weiterlesenshop.drogist-n.de\n\n\n\nMediterrane Gewürze kaufenLänder wie Italien\, Spanien und Griechenland wecken in Deutschland durch Urlaubsträume Appetit auf aromatische\, frische LeckereienWeiterlesenshop.drogist-n.de\n\n\n\nZatar Gewürz selber machenMit diesen Gewürzen Zatar Gewürz selber machen ist einfach. Zatar übersetzt in Deutsch: Thymian. Wird mit Thymian\, Sumach\, Sesamsaat und eventuell mit Cumin hergestellt.Weiterlesenshop.drogist-n.de\n\n\n\n\n\n\nWo finden Sie den Gewürzstand in Lippstadt auf dem Wochenmarkt?\n\n\nUnseren Gewürzstand finden Sie samstags auf dem Wochenmarkt bei der Marienkirchen. Lippstadt hat am Samstag einen attraktiv bestückten\, grünen Wochenmarkt. Es werden nur Lebensmittel und andere Naturprodukte angeboten. \n\n\n\n\n\n\n\nVorbestellung für Märkte nehmen wir gerne an:\n\n\n\nSchreiben Sie in Ihrer Online-Bestellung in das Feld\, Bemerkungen den Ort\, an dem Sie abholen möchten und in den Versandoptionen Abholung vor Ort an. Ihre Bestellung muss zwei Tage vor Abholung vorliegen. \n\n\n\nDie Großpackungen mit besonders günstigen Preisen haben wir auf Märkten nicht vorrätig. \n\n\n\n\n👉 Vorbestellen\n\n\n\n\nAnfrage zu individuellen Gewürz- oder Teemischungen\n\n\n\nSchreiben Sie in das Kontaktformular Ihre Rezeptur. Wir prüfen diese Mischung auch auf Plausibilität. Meistens haben wir diese Rezepturen in unserem Sortiment. Wir melden uns und geben Ihnen Empfehlungen. \n\n\n\n\n\n  \n\n\n\nIhr Name\n\n \n\n Betreff\n \nTeemischungGewürzmischung\n Ihre Nachricht (optional)\n \n \nIch habe die Datenschutzseite zur Kenntnis genommen und akzeptiert. Ich stimme zu\, dass meine Angaben\nzur Kontaktaufnahme & zur Bearbeitung meines Anliegens gespeichert werden.\n \nWhat is 1 + 6 ? Answer for 1 + 6
URL:https://www.drogist-n.de/markt/lippstadt-gewuerze-kaufen-3/
LOCATION:Wochenmarkt Lippstadt\, Marktstraße\, Lippstadt\, NRW\, 59555\, Germany
CATEGORIES:Wochenmarkt Gewürze kaufen
ATTACH;FMTTYPE=image/webp:https://www.drogist-n.de/wp-content/uploads/2021/10/susi_gewuerzstand.webp
END:VEVENT
END:VCALENDAR